BEGIN:VCALENDAR
VERSION:2.0
PRODID:-//Amigos de El Salvador - ECPv6.15.20//NONSGML v1.0//EN
CALSCALE:GREGORIAN
METHOD:PUBLISH
X-WR-CALNAME:Amigos de El Salvador
X-ORIGINAL-URL:https://amigos-elsalvador.de/es/
X-WR-CALDESC:Eventos para Amigos de El Salvador
REFRESH-INTERVAL;VALUE=DURATION:PT1H
X-Robots-Tag:noindex
X-PUBLISHED-TTL:PT1H
BEGIN:VTIMEZONE
TZID:Europe/Berlin
BEGIN:DAYLIGHT
TZOFFSETFROM:+0100
TZOFFSETTO:+0200
TZNAME:CEST
DTSTART:20210328T010000
END:DAYLIGHT
BEGIN:STANDARD
TZOFFSETFROM:+0200
TZOFFSETTO:+0100
TZNAME:CET
DTSTART:20211031T010000
END:STANDARD
BEGIN:DAYLIGHT
TZOFFSETFROM:+0100
TZOFFSETTO:+0200
TZNAME:CEST
DTSTART:20220327T010000
END:DAYLIGHT
BEGIN:STANDARD
TZOFFSETFROM:+0200
TZOFFSETTO:+0100
TZNAME:CET
DTSTART:20221030T010000
END:STANDARD
BEGIN:DAYLIGHT
TZOFFSETFROM:+0100
TZOFFSETTO:+0200
TZNAME:CEST
DTSTART:20230326T010000
END:DAYLIGHT
BEGIN:STANDARD
TZOFFSETFROM:+0200
TZOFFSETTO:+0100
TZNAME:CET
DTSTART:20231029T010000
END:STANDARD
END:VTIMEZONE
BEGIN:VEVENT
DTSTART;TZID=Europe/Berlin:20220917T113000
DTEND;TZID=Europe/Berlin:20220917T170000
DTSTAMP:20260424T015635
CREATED:20240326T120424Z
LAST-MODIFIED:20240326T120424Z
UID:926-1663414200-1663434000@amigos-elsalvador.de
SUMMARY:Fiestas nacionales de El Salvador
DESCRIPTION:Tendremos deliciosos platillos típicos\, programas para niños\, juegos\, música y exposiciones de talentosos salvadoreños.  \n\nContaremos nuevamente con el Consulado Móvil salvadoreño\, el cual vendrá desde Berlín\, para que puedas realizar tus trámites: Pasaportes\, Poderes\, Registros de Nacimiento y Matrimonio\, solicitudes de renuncia de nacionalidad\, solicitudes de antecedentes penales y policiales y trámites de retiro de fondos de su AFP. \n\nReserva la fecha. Te esperamos!
URL:https://amigos-elsalvador.de/es/evento/fiestas-nacionales-de-el-salvador/
LOCATION:Klosterhof Herrenberg\, Bronngasse 13\, Herrenberg\, 71083\, Deutschland
ATTACH;FMTTYPE=image/png:https://amigos-elsalvador.de/wp-content/uploads/2022/06/Bildschirmfoto-2022-08-12-um-22.25.41.png
END:VEVENT
END:VCALENDAR