BEGIN:VCALENDAR
VERSION:2.0
PRODID:-//Amigos de El Salvador - ECPv6.15.11//NONSGML v1.0//EN
CALSCALE:GREGORIAN
METHOD:PUBLISH
X-WR-CALNAME:Amigos de El Salvador
X-ORIGINAL-URL:https://amigos-elsalvador.de/es/
X-WR-CALDESC:Eventos para Amigos de El Salvador
REFRESH-INTERVAL;VALUE=DURATION:PT1H
X-Robots-Tag:noindex
X-PUBLISHED-TTL:PT1H
BEGIN:VTIMEZONE
TZID:Europe/Berlin
BEGIN:DAYLIGHT
TZOFFSETFROM:+0100
TZOFFSETTO:+0200
TZNAME:CEST
DTSTART:20220327T010000
END:DAYLIGHT
BEGIN:STANDARD
TZOFFSETFROM:+0200
TZOFFSETTO:+0100
TZNAME:CET
DTSTART:20221030T010000
END:STANDARD
BEGIN:DAYLIGHT
TZOFFSETFROM:+0100
TZOFFSETTO:+0200
TZNAME:CEST
DTSTART:20230326T010000
END:DAYLIGHT
BEGIN:STANDARD
TZOFFSETFROM:+0200
TZOFFSETTO:+0100
TZNAME:CET
DTSTART:20231029T010000
END:STANDARD
BEGIN:DAYLIGHT
TZOFFSETFROM:+0100
TZOFFSETTO:+0200
TZNAME:CEST
DTSTART:20240331T010000
END:DAYLIGHT
BEGIN:STANDARD
TZOFFSETFROM:+0200
TZOFFSETTO:+0100
TZNAME:CET
DTSTART:20241027T010000
END:STANDARD
END:VTIMEZONE
BEGIN:VEVENT
DTSTART;TZID=Europe/Berlin:20230923T113000
DTEND;TZID=Europe/Berlin:20230923T170000
DTSTAMP:20260421T101022
CREATED:20240326T115931Z
LAST-MODIFIED:20240326T120105Z
UID:918-1695468600-1695488400@amigos-elsalvador.de
SUMMARY:Celebración de Independencia
DESCRIPTION:
URL:https://amigos-elsalvador.de/es/evento/celebracion-de-independencia/
LOCATION:Klosterhof Herrenberg\, Bronngasse 13\, Herrenberg\, 71083\, Deutschland
ATTACH;FMTTYPE=image/png:https://amigos-elsalvador.de/wp-content/uploads/2023/09/Bildschirm­foto-2023-09-15-um-23.13.33.png
END:VEVENT
END:VCALENDAR